BEGIN:VCALENDAR
VERSION:2.0
PRODID:-//ChamberMaster//Event Calendar 2.0//EN
METHOD:PUBLISH
X-PUBLISHED-TTL:P1H
REFRESH-INTERVAL:P1H
CALSCALE:GREGORIAN
BEGIN:VTIMEZONE
TZID:America/Los_Angeles
BEGIN:DAYLIGHT
RRULE:FREQ=YEARLY;BYMONTH=3;BYDAY=2SU
DTSTART:20070101T000000
TZOFFSETFROM:-0800
TZOFFSETTO:-0700
TZNAME:Pacific Daylight Time
END:DAYLIGHT
BEGIN:STANDARD
RRULE:FREQ=YEARLY;BYMONTH=11;BYDAY=1SU
DTSTART:20070101T000000
TZOFFSETFROM:-0700
TZOFFSETTO:-0800
TZNAME:Pacific Standard Time
END:STANDARD
END:VTIMEZONE
BEGIN:VEVENT
DTSTART;VALUE=DATE:20260503
DTEND;VALUE=DATE:20260504
TRANSP:TRANSPARENT
X-MICROSOFT-CDO-ALLDAYEVENT:TRUE
SUMMARY:Growing Food & Beverage Businesses from the Ground Up
DESCRIPTION:Join us in Revelstoke as we host a panel discussion with two local entrepreneurs outlining what it takes to start\, grow and develop your food and beverage business in Revelstoke. You'll hear real experiences\, challenges unique to the area\, and what is needed to begin and grow and more in an engaging panel discussion. Stick around and enjoy some light networking with your peers and community experts. Who Should Attend? Food & beverage processors (or those interested in the industry) who are seeking to connect with peers and learn from experts in the industry.
X-ALT-DESC;FMTTYPE=text/html:<!DOCTYPE html><html><head><title></title></head><body aria-disabled="false"><p>Join us in Revelstoke as we host a panel discussion with two local entrepreneurs outlining what it takes to start\, grow and develop your food and beverage business in Revelstoke. You&#39\;ll hear real experiences\, challenges unique to the area\, and what is needed to begin and grow and more in an engaging panel discussion. Stick around and enjoy some light networking with your peers and community experts.&nbsp\;</p><p><strong fr-original-style="" style="font-weight: 700\;">Who Should Attend?&nbsp\;</strong>Food &amp\; beverage processors (or those interested in the industry) who are seeking to connect with peers and learn from experts in the industry.&nbsp\;</p><p style="box-sizing: border-box\; margin: 0px auto\;"><br style="box-sizing: border-box\; color: rgb(81\, 80\, 95)\; font-family: LatoWeb\, &quot\;PingFang SC&quot\;\, 平方\, &quot\;Microsoft YaHei&quot\;\, 微软雅黑\, STXihei\, 华文细黑\, &quot\;Microsoft JhengHei&quot\;\, 微軟正黑體\, &quot\;Apple LiGothic&quot\;\, 蘋果儷中黑\, Gulim\, 굴림\, メイリオ\, meiryo\, &quot\;Myanmar Text&quot\;\, &quot\;Cordia New&quot\;\, Arial\, sans-serif\; font-size: 16px\; font-style: normal\; font-variant-ligatures: normal\; font-variant-caps: normal\; font-weight: 400\; letter-spacing: normal\; orphans: 2\; text-align: start\; text-indent: 0px\; text-transform: none\; widows: 2\; word-spacing: 0px\; -webkit-text-stroke-width: 0px\; white-space: normal\; background-color: rgb(255\, 255\, 255)\; text-decoration-thickness: initial\; text-decoration-style: initial\; text-decoration-color: initial\;"></p></body></html>
LOCATION:
UID:e.3551.1440876
SEQUENCE:3
DTSTAMP:20260421T110011Z
URL:https://business.revelstokechamber.com/community-calendar/Details/growing-food-beverage-businesses-from-the-ground-up-1706078?sourceTypeId=Hub
END:VEVENT
END:VCALENDAR
