BEGIN:VCALENDAR
VERSION:2.0
PRODID:-//ChamberMaster//Event Calendar 2.0//EN
METHOD:PUBLISH
X-PUBLISHED-TTL:P1H
REFRESH-INTERVAL:P1H
CALSCALE:GREGORIAN
BEGIN:VTIMEZONE
TZID:America/Los_Angeles
BEGIN:DAYLIGHT
RRULE:FREQ=YEARLY;BYMONTH=3;BYDAY=2SU
DTSTART:20070101T000000
TZOFFSETFROM:-0800
TZOFFSETTO:-0700
TZNAME:Pacific Daylight Time
END:DAYLIGHT
BEGIN:STANDARD
RRULE:FREQ=YEARLY;BYMONTH=11;BYDAY=1SU
DTSTART:20070101T000000
TZOFFSETFROM:-0700
TZOFFSETTO:-0800
TZNAME:Pacific Standard Time
END:STANDARD
END:VTIMEZONE
BEGIN:VEVENT
DTSTART;TZID=America/Los_Angeles:20260502T180000
DTEND;TZID=America/Los_Angeles:20260502T200000
X-MICROSOFT-CDO-ALLDAYEVENT:FALSE
SUMMARY:ADHD & Entrepreneurship - Free Virtual Workshop
DESCRIPTION:For ADHD entrepreneurs and business owners who want to better understand executive functions and how they shape the way they work\, lead\, and grow.Rooted in Russell Barkley's framework and informed by real-life coaching experience with ADHD business owners\, the session will explore the brain-based skills behind focus\, planning\, emotional regulation\, time management\, and follow-through. Attendees will learn how executive functioning challenges can show up in everyday business tasks like prioritizing\, making decisions\, staying consistent\, managing overwhelm\, and finishing what they start. The webinar will also help participants map their own executive functioning patterns so they can better understand where they get stuck and why. Alongside education and reflection\, the session will include practical strategies that have helped ADHD entrepreneur clients create more supportive systems\, reduce shame\, improve self-awareness\, and build businesses that work more effectively with their brains with more clarity and ease.\nRegister Here.
X-ALT-DESC;FMTTYPE=text/html:<!DOCTYPE html><html><head><title></title></head><body aria-disabled="false"><p>For ADHD entrepreneurs and business owners who want to better understand executive functions and how they shape the way they work\, lead\, and grow.</p><p>Rooted in Russell Barkley&rsquo\;s framework and informed by real-life coaching experience with ADHD business owners\, the session will explore the brain-based skills behind focus\, planning\, emotional regulation\, time management\, and follow-through.&nbsp\;</p><p>Attendees will learn how executive functioning challenges can show up in everyday business tasks like prioritizing\, making decisions\, staying consistent\, managing overwhelm\, and finishing what they start. The webinar will also help participants map their own executive functioning patterns so they can better understand where they get stuck and why.&nbsp\;</p><p>Alongside education and reflection\, the session will include practical strategies that have helped ADHD entrepreneur clients create more supportive systems\, reduce shame\, improve self-awareness\, and build businesses that work more effectively with their brains with more clarity and ease.</p><p><br></p><p>Register Here.</p></body></html>
LOCATION:
UID:e.3551.1445051
SEQUENCE:3
DTSTAMP:20260421T105345Z
URL:https://business.revelstokechamber.com/community-calendar/Details/adhd-entrepreneurship-free-virtual-workshop-1711534?sourceTypeId=Hub
END:VEVENT
END:VCALENDAR
